BEGIN:VCALENDAR
VERSION:2.0
PRODID:-//Học viện GNV - ECPv5.9.1//NONSGML v1.0//EN
CALSCALE:GREGORIAN
METHOD:PUBLISH
X-WR-CALNAME:Học viện GNV
X-ORIGINAL-URL:https://gnv.edu.vn
X-WR-CALDESC:Events for Học viện GNV
BEGIN:VTIMEZONE
TZID:Asia/Ho_Chi_Minh
BEGIN:STANDARD
TZOFFSETFROM:+0700
TZOFFSETTO:+0700
TZNAME:+07
DTSTART:20220101T000000
END:STANDARD
END:VTIMEZONE
BEGIN:VEVENT
DTSTART;TZID=Asia/Ho_Chi_Minh:20220128T010000
DTEND;TZID=Asia/Ho_Chi_Minh:20220128T010000
DTSTAMP:20260415T101249
CREATED:20220115T160326Z
LAST-MODIFIED:20220115T160326Z
UID:20452-1643331600-1643331600@gnv.edu.vn
SUMMARY:Sự kiện: Tableau Dashboard Design Tips for 2022
DESCRIPTION:Friday\, January 28\, 1:00pm – 2:00pm | CST​​​​​​\n\nJoin us as we share some of our favorite tips\, tricks and techniques from dashboards we designed last year. From clever solutions for specific situations to design decisions that cut across all types of data\, we’ve collected a range of ideas that will help you create more effective dashboards in 2022. \nIn this webinar\, you’ll discover: \n• Dashboard trends that support deeper\, richer analysis\n• How our analytics consultants use design thinking to make intuitive user interfaces\n• Ways to leverage Tableau features to support advanced user interactions\n• A new (and free!) tool from InterWorks that can help with custom background images\nInvite a friend and register to save your spot. \nCan’t make the live webinar? Register and we’ll send you the replay! \nThis webinar is presented by the InterWorks Assist Team.
URL:https://gnv.edu.vn/event/tableau-dashboard-design-tips-for-2022/
CATEGORIES:Tableau
ATTACH;FMTTYPE=image/png:https://gnv.edu.vn/wp-content/uploads/2022/01/unnamed.png
ORGANIZER;CN="Tableau":MAILTO:tableausupport@eventcore.com
END:VEVENT
END:VCALENDAR